BEGIN:VCALENDAR
VERSION:2.0
PRODID:-//Ozark Empire Grocers - ECPv6.15.17//NONSGML v1.0//EN
CALSCALE:GREGORIAN
METHOD:PUBLISH
X-WR-CALNAME:Ozark Empire Grocers
X-ORIGINAL-URL:https://ozarkempiregrocers.com
X-WR-CALDESC:Events for Ozark Empire Grocers
REFRESH-INTERVAL;VALUE=DURATION:PT1H
X-Robots-Tag:noindex
X-PUBLISHED-TTL:PT1H
BEGIN:VTIMEZONE
TZID:UTC
BEGIN:STANDARD
TZOFFSETFROM:+0000
TZOFFSETTO:+0000
TZNAME:UTC
DTSTART:20230101T000000
END:STANDARD
END:VTIMEZONE
BEGIN:VEVENT
DTSTART;VALUE=DATE:20241205
DTEND;VALUE=DATE:20241206
DTSTAMP:20260422T130352
CREATED:20240521T165113Z
LAST-MODIFIED:20240521T165113Z
UID:181-1733356800-1733443199@ozarkempiregrocers.com
SUMMARY:OEGA Annual Christmas Party – Double Tree by Hilton\, Springfield\, MO
DESCRIPTION:
URL:https://ozarkempiregrocers.com/event/oega-annual-christmas-party-double-tree-by-hilton-springfield-mo/
LOCATION:Double Tree by Hilton\, 2431 N Glenstone Ave\, Springfield\, MO\, 65803\, United States
CATEGORIES:Events
END:VEVENT
BEGIN:VEVENT
DTSTART;VALUE=DATE:20241023
DTEND;VALUE=DATE:20241026
DTSTAMP:20260422T130352
CREATED:20240507T193718Z
LAST-MODIFIED:20240521T164826Z
UID:161-1729641600-1729900799@ozarkempiregrocers.com
SUMMARY:MGA Convention – Camden on the Lake Resort\, lake of the Ozarks
DESCRIPTION:
URL:https://ozarkempiregrocers.com/event/mga-convention-2024/
LOCATION:Camden on the Lake Resort\, 2359 Bittersweet Rd\, Lake Ozark\, MO\, 65049\, United States
CATEGORIES:Events
END:VEVENT
BEGIN:VEVENT
DTSTART;VALUE=DATE:20240821
DTEND;VALUE=DATE:20240822
DTSTAMP:20260422T130352
CREATED:20240507T193645Z
LAST-MODIFIED:20240521T164846Z
UID:159-1724198400-1724284799@ozarkempiregrocers.com
SUMMARY:AWG Fall Food Show – Branson\, MO
DESCRIPTION:
URL:https://ozarkempiregrocers.com/event/awg-fall-food-show-2024/
LOCATION:MO
CATEGORIES:Events
END:VEVENT
END:VCALENDAR